BEGIN:VCALENDAR
VERSION:2.0
PRODID:-//Avro Golf Club - ECPv6.15.6//NONSGML v1.0//EN
CALSCALE:GREGORIAN
METHOD:PUBLISH
X-ORIGINAL-URL:https://www.avrogolf.co.uk
X-WR-CALDESC:Events for Avro Golf Club
REFRESH-INTERVAL;VALUE=DURATION:PT1H
X-Robots-Tag:noindex
X-PUBLISHED-TTL:PT1H
BEGIN:VTIMEZONE
TZID:UTC
BEGIN:STANDARD
TZOFFSETFROM:+0000
TZOFFSETTO:+0000
TZNAME:UTC
DTSTART:20220101T000000
END:STANDARD
END:VTIMEZONE
BEGIN:VEVENT
DTSTART;TZID=UTC:20230818T164000
DTEND;TZID=UTC:20230818T184000
DTSTAMP:20260420T182859
CREATED:20230220T160014Z
LAST-MODIFIED:20230307T131828Z
UID:10000133-1692376800-1692384000@www.avrogolf.co.uk
SUMMARY:5th Charity Mixed
DESCRIPTION:
URL:https://www.avrogolf.co.uk/event/5th-charity-mixed/
CATEGORIES:Ladies Fixtures,Men's Fixtures,Seniors Fixtures
END:VEVENT
BEGIN:VEVENT
DTSTART;TZID=UTC:20230813T080000
DTEND;TZID=UTC:20230813T120000
DTSTAMP:20260420T182859
CREATED:20230220T155030Z
LAST-MODIFIED:20230220T155227Z
UID:10000129-1691913600-1691928000@www.avrogolf.co.uk
SUMMARY:Mens - P Lightfoot Stableford
DESCRIPTION:
URL:https://www.avrogolf.co.uk/event/mens-p-lightfoot-stableford/
CATEGORIES:Men's Fixtures
END:VEVENT
BEGIN:VEVENT
DTSTART;TZID=UTC:20230806T080000
DTEND;TZID=UTC:20230806T120000
DTSTAMP:20260420T182859
CREATED:20230220T153935Z
LAST-MODIFIED:20230220T154142Z
UID:10000123-1691308800-1691323200@www.avrogolf.co.uk
SUMMARY:Mens - August Medal
DESCRIPTION:
URL:https://www.avrogolf.co.uk/event/mens-august-medal/
CATEGORIES:Men's Fixtures
END:VEVENT
BEGIN:VEVENT
DTSTART;TZID=UTC:20230730T080000
DTEND;TZID=UTC:20230730T120000
DTSTAMP:20260420T182859
CREATED:20230216T113015Z
LAST-MODIFIED:20230216T113015Z
UID:10000117-1690704000-1690718400@www.avrogolf.co.uk
SUMMARY:Mens - H Wood Trophy Medal
DESCRIPTION:
URL:https://www.avrogolf.co.uk/event/mens-h-wood-trophy-medal/
CATEGORIES:Men's Fixtures
END:VEVENT
BEGIN:VEVENT
DTSTART;TZID=UTC:20230723T080000
DTEND;TZID=UTC:20230723T120000
DTSTAMP:20260420T182859
CREATED:20230216T112304Z
LAST-MODIFIED:20230216T112304Z
UID:10000111-1690099200-1690113600@www.avrogolf.co.uk
SUMMARY:Mens - Sunday Stableford
DESCRIPTION:
URL:https://www.avrogolf.co.uk/event/mens-sunday-stableford/
CATEGORIES:Men's Fixtures
END:VEVENT
BEGIN:VEVENT
DTSTART;TZID=UTC:20230721T164000
DTEND;TZID=UTC:20230721T184000
DTSTAMP:20260420T182859
CREATED:20230216T112059Z
LAST-MODIFIED:20230307T131922Z
UID:10000109-1689957600-1689964800@www.avrogolf.co.uk
SUMMARY:4th Charity Mixed Comp
DESCRIPTION:
URL:https://www.avrogolf.co.uk/event/4th-charity-mixed-comp/
CATEGORIES:Ladies Fixtures,Men's Fixtures,Seniors Fixtures
END:VEVENT
BEGIN:VEVENT
DTSTART;TZID=UTC:20230716T080000
DTEND;TZID=UTC:20230716T120000
DTSTAMP:20260420T182859
CREATED:20230216T111427Z
LAST-MODIFIED:20230216T111427Z
UID:10000104-1689494400-1689508800@www.avrogolf.co.uk
SUMMARY:Mens - Medal
DESCRIPTION:
URL:https://www.avrogolf.co.uk/event/mens-medal/
CATEGORIES:Men's Fixtures
END:VEVENT
BEGIN:VEVENT
DTSTART;TZID=UTC:20230709T080000
DTEND;TZID=UTC:20230709T120000
DTSTAMP:20260420T182859
CREATED:20230213T182712Z
LAST-MODIFIED:20230220T155148Z
UID:10000098-1688889600-1688904000@www.avrogolf.co.uk
SUMMARY:Mens - Captain’s Trophy Medal
DESCRIPTION:
URL:https://www.avrogolf.co.uk/event/mens-captains-trophy-medal/
CATEGORIES:Men's Fixtures
END:VEVENT
BEGIN:VEVENT
DTSTART;VALUE=DATE:20230701
DTEND;VALUE=DATE:20230703
DTSTAMP:20260420T182859
CREATED:20230213T181816Z
LAST-MODIFIED:20230213T181816Z
UID:10000091-1688169600-1688342399@www.avrogolf.co.uk
SUMMARY:Mens - Club Championships weekend
DESCRIPTION:
URL:https://www.avrogolf.co.uk/event/mens-club-championships-weekend/
CATEGORIES:Men's Fixtures
END:VEVENT
BEGIN:VEVENT
DTSTART;TZID=UTC:20230625T080000
DTEND;TZID=UTC:20230625T120000
DTSTAMP:20260420T182859
CREATED:20230213T165326Z
LAST-MODIFIED:20230227T154132Z
UID:10000087-1687680000-1687694400@www.avrogolf.co.uk
SUMMARY:Mens - Captains Charity Stableford
DESCRIPTION:
URL:https://www.avrogolf.co.uk/event/mens-captains-charity-stableford/
CATEGORIES:Men's Fixtures
END:VEVENT
BEGIN:VEVENT
DTSTART;TZID=UTC:20230623T164000
DTEND;TZID=UTC:20230623T184000
DTSTAMP:20260420T182859
CREATED:20230213T164154Z
LAST-MODIFIED:20230307T131424Z
UID:10000078-1687538400-1687545600@www.avrogolf.co.uk
SUMMARY:Charity Mixed Comp
DESCRIPTION:
URL:https://www.avrogolf.co.uk/event/charity-mixed-comp/
CATEGORIES:Ladies Fixtures,Men's Fixtures,Seniors Fixtures
END:VEVENT
BEGIN:VEVENT
DTSTART;TZID=UTC:20230618T080000
DTEND;TZID=UTC:20230618T120000
DTSTAMP:20260420T182859
CREATED:20230213T164731Z
LAST-MODIFIED:20230227T154033Z
UID:10000081-1687075200-1687089600@www.avrogolf.co.uk
SUMMARY:Mens - Vice Captains Charity Stableford
DESCRIPTION:
URL:https://www.avrogolf.co.uk/event/mens-vice-captains-charity-stableford/
CATEGORIES:Men's Fixtures
END:VEVENT
BEGIN:VEVENT
DTSTART;TZID=UTC:20230616T090000
DTEND;TZID=UTC:20230616T130000
DTSTAMP:20260420T182859
CREATED:20230213T164018Z
LAST-MODIFIED:20230213T164242Z
UID:10000077-1686906000-1686920400@www.avrogolf.co.uk
SUMMARY:Mens - Captain’s Awayday Cavendish GC
DESCRIPTION:
URL:https://www.avrogolf.co.uk/event/mens-captains-awayday-cavendish-gc/
CATEGORIES:Men's Fixtures
END:VEVENT
BEGIN:VEVENT
DTSTART;TZID=UTC:20230611T080000
DTEND;TZID=UTC:20230611T120000
DTSTAMP:20260420T182859
CREATED:20230213T163536Z
LAST-MODIFIED:20230227T153927Z
UID:10000073-1686470400-1686484800@www.avrogolf.co.uk
SUMMARY:Mens - Tom McKenzie Stableford
DESCRIPTION:
URL:https://www.avrogolf.co.uk/event/mens-tom-mckenzie-stableford/
CATEGORIES:Men's Fixtures
END:VEVENT
BEGIN:VEVENT
DTSTART;TZID=UTC:20230604T080000
DTEND;TZID=UTC:20230604T120000
DTSTAMP:20260420T182859
CREATED:20230213T162911Z
LAST-MODIFIED:20230227T153837Z
UID:10000067-1685865600-1685880000@www.avrogolf.co.uk
SUMMARY:Mens - June Medal
DESCRIPTION:
URL:https://www.avrogolf.co.uk/event/mens-june-medal/
CATEGORIES:Men's Fixtures
END:VEVENT
BEGIN:VEVENT
DTSTART;TZID=UTC:20230528T080000
DTEND;TZID=UTC:20230528T120000
DTSTAMP:20260420T182859
CREATED:20230212T124905Z
LAST-MODIFIED:20230227T153659Z
UID:10000035-1685260800-1685275200@www.avrogolf.co.uk
SUMMARY:Mens - Lancaster Club Medal
DESCRIPTION:
URL:https://www.avrogolf.co.uk/event/mens-lancaster-club-medal/
CATEGORIES:Men's Fixtures
END:VEVENT
BEGIN:VEVENT
DTSTART;TZID=UTC:20230521T080000
DTEND;TZID=UTC:20230521T120000
DTSTAMP:20260420T182859
CREATED:20230212T124744Z
LAST-MODIFIED:20230227T153543Z
UID:10000034-1684656000-1684670400@www.avrogolf.co.uk
SUMMARY:Mens - Brian Heslop Memorial Stableford
DESCRIPTION:
URL:https://www.avrogolf.co.uk/event/mens-brian-heslop-memorial-stableford/
CATEGORIES:Men's Fixtures
END:VEVENT
BEGIN:VEVENT
DTSTART;TZID=UTC:20230519T164000
DTEND;TZID=UTC:20230519T184000
DTSTAMP:20260420T182859
CREATED:20230212T124623Z
LAST-MODIFIED:20230307T132014Z
UID:10000033-1684514400-1684521600@www.avrogolf.co.uk
SUMMARY:2nd Charity Mixed Comp
DESCRIPTION:
URL:https://www.avrogolf.co.uk/event/2nd-charity-mixed-comp/
CATEGORIES:Ladies Fixtures,Men's Fixtures,Seniors Fixtures
END:VEVENT
BEGIN:VEVENT
DTSTART;TZID=UTC:20230514T080000
DTEND;TZID=UTC:20230514T120000
DTSTAMP:20260420T182859
CREATED:20230212T124353Z
LAST-MODIFIED:20230227T153312Z
UID:10000032-1684051200-1684065600@www.avrogolf.co.uk
SUMMARY:Mens - Greenall Whitely Medal
DESCRIPTION:
URL:https://www.avrogolf.co.uk/event/mens-greenall-whitely-medal/
CATEGORIES:Men's Fixtures
END:VEVENT
BEGIN:VEVENT
DTSTART;TZID=UTC:20230507T080000
DTEND;TZID=UTC:20230507T120000
DTSTAMP:20260420T182859
CREATED:20230209T104333Z
LAST-MODIFIED:20230227T153200Z
UID:10000030-1683446400-1683460800@www.avrogolf.co.uk
SUMMARY:Mens - May Medal
DESCRIPTION:
URL:https://www.avrogolf.co.uk/event/mens-may-medal/
CATEGORIES:Men's Fixtures
END:VEVENT
BEGIN:VEVENT
DTSTART;TZID=UTC:20230430T080000
DTEND;TZID=UTC:20230430T120000
DTSTAMP:20260420T182859
CREATED:20230208T203839Z
LAST-MODIFIED:20230227T153049Z
UID:10000022-1682841600-1682856000@www.avrogolf.co.uk
SUMMARY:Mens - Terry Mottershead Trophy
DESCRIPTION:
URL:https://www.avrogolf.co.uk/event/seniors-invite-to-ladies/
CATEGORIES:Men's Fixtures
END:VEVENT
BEGIN:VEVENT
DTSTART;TZID=UTC:20230423T080000
DTEND;TZID=UTC:20230423T120000
DTSTAMP:20260420T182859
CREATED:20230208T202756Z
LAST-MODIFIED:20230227T152935Z
UID:10000019-1682236800-1682251200@www.avrogolf.co.uk
SUMMARY:Mens - Flight Sheds Trophy Stableford
DESCRIPTION:
URL:https://www.avrogolf.co.uk/event/mens-flight-sheds-trophy-stableford/
CATEGORIES:Men's Fixtures
END:VEVENT
BEGIN:VEVENT
DTSTART;TZID=UTC:20230421T164000
DTEND;TZID=UTC:20230421T174000
DTSTAMP:20260420T182859
CREATED:20230206T151145Z
LAST-MODIFIED:20230212T125912Z
UID:10000017-1682095200-1682098800@www.avrogolf.co.uk
SUMMARY:1st Charity Mixed Comp
DESCRIPTION:
URL:https://www.avrogolf.co.uk/event/1st-charity-mixed-comp/
CATEGORIES:Ladies Fixtures,Men's Fixtures,Seniors Fixtures
END:VEVENT
BEGIN:VEVENT
DTSTART;TZID=UTC:20230416T080000
DTEND;TZID=UTC:20230416T120000
DTSTAMP:20260420T182859
CREATED:20230206T143409Z
LAST-MODIFIED:20230227T152639Z
UID:10000013-1681632000-1681646400@www.avrogolf.co.uk
SUMMARY:Mens - April Medal
DESCRIPTION:
URL:https://www.avrogolf.co.uk/event/ladies-9-hole-3/
CATEGORIES:Men's Fixtures
END:VEVENT
BEGIN:VEVENT
DTSTART;TZID=UTC:20230409T080000
DTEND;TZID=UTC:20230409T120000
DTSTAMP:20260420T182859
CREATED:20230206T140609Z
LAST-MODIFIED:20230227T152532Z
UID:10000009-1681027200-1681041600@www.avrogolf.co.uk
SUMMARY:Mens - Captains Charity Stableford
DESCRIPTION:
URL:https://www.avrogolf.co.uk/event/captains-charity-stableford/
CATEGORIES:Men's Fixtures
END:VEVENT
BEGIN:VEVENT
DTSTART;TZID=UTC:20230402T080000
DTEND;TZID=UTC:20230402T120000
DTSTAMP:20260420T182859
CREATED:20230130T141540Z
LAST-MODIFIED:20230223T192532Z
UID:10000003-1680422400-1680436800@www.avrogolf.co.uk
SUMMARY:Mens - Gamekeepers Trophy Stableford
DESCRIPTION:
URL:https://www.avrogolf.co.uk/event/greenkeepers-trophy-stableford/
LOCATION:Home\, Old Hall Lane\, Woodford\, SK7 1RN\, United Kingdom
CATEGORIES:Men's Fixtures
END:VEVENT
END:VCALENDAR