BEGIN:VCALENDAR
VERSION:2.0
PRODID:-//Avro Golf Club - ECPv6.15.6//NONSGML v1.0//EN
CALSCALE:GREGORIAN
METHOD:PUBLISH
X-WR-CALNAME:Avro Golf Club
X-ORIGINAL-URL:https://www.avrogolf.co.uk
X-WR-CALDESC:Events for Avro Golf Club
REFRESH-INTERVAL;VALUE=DURATION:PT1H
X-Robots-Tag:noindex
X-PUBLISHED-TTL:PT1H
BEGIN:VTIMEZONE
TZID:UTC
BEGIN:STANDARD
TZOFFSETFROM:+0000
TZOFFSETTO:+0000
TZNAME:UTC
DTSTART:20220101T000000
END:STANDARD
END:VTIMEZONE
BEGIN:VEVENT
DTSTART;TZID=UTC:20231011T090000
DTEND;TZID=UTC:20231011T130000
DTSTAMP:20260420T103731
CREATED:20230222T194439Z
LAST-MODIFIED:20230222T194439Z
UID:10000178-1697014800-1697029200@www.avrogolf.co.uk
SUMMARY:Ladies - Stableford
DESCRIPTION:
URL:https://www.avrogolf.co.uk/event/ladies-stableford-30/
CATEGORIES:Ladies Fixtures
END:VEVENT
BEGIN:VEVENT
DTSTART;TZID=UTC:20231010T081000
DTEND;TZID=UTC:20231010T123000
DTSTAMP:20260420T103731
CREATED:20230222T194400Z
LAST-MODIFIED:20230222T194400Z
UID:10000177-1696925400-1696941000@www.avrogolf.co.uk
SUMMARY:Ladies - Stableford & 9 hole front
DESCRIPTION:
URL:https://www.avrogolf.co.uk/event/ladies-stableford-9-hole-front/
CATEGORIES:Ladies Fixtures
END:VEVENT
BEGIN:VEVENT
DTSTART;TZID=UTC:20231008T080000
DTEND;TZID=UTC:20231008T120000
DTSTAMP:20260420T103731
CREATED:20230222T194211Z
LAST-MODIFIED:20230222T194211Z
UID:10000176-1696752000-1696766400@www.avrogolf.co.uk
SUMMARY:Mens - Sunday Stableford
DESCRIPTION:
URL:https://www.avrogolf.co.uk/event/mens-sunday-stableford-4/
CATEGORIES:Men's Fixtures
END:VEVENT
BEGIN:VEVENT
DTSTART;TZID=UTC:20231007T124500
DTEND;TZID=UTC:20231007T170000
DTSTAMP:20260420T103731
CREATED:20230223T190102Z
LAST-MODIFIED:20230223T190102Z
UID:10000216-1696682700-1696698000@www.avrogolf.co.uk
SUMMARY:Juniors - Junior Comp
DESCRIPTION:
URL:https://www.avrogolf.co.uk/event/juniors-junior-comp-5/
END:VEVENT
BEGIN:VEVENT
DTSTART;TZID=UTC:20231007T092000
DTEND;TZID=UTC:20231007T104000
DTSTAMP:20260420T103731
CREATED:20230222T193504Z
LAST-MODIFIED:20230222T193504Z
UID:10000174-1696670400-1696675200@www.avrogolf.co.uk
SUMMARY:Ladies - 9 hole
DESCRIPTION:
URL:https://www.avrogolf.co.uk/event/ladies-9-hole-28/
CATEGORIES:Ladies Fixtures
END:VEVENT
BEGIN:VEVENT
DTSTART;VALUE=DATE:20231007
DTEND;VALUE=DATE:20231009
DTSTAMP:20260420T103731
CREATED:20230222T193634Z
LAST-MODIFIED:20230222T193634Z
UID:10000175-1696636800-1696809599@www.avrogolf.co.uk
SUMMARY:Seniors - Weekend Away at Old - Play Hawarden GC
DESCRIPTION:
URL:https://www.avrogolf.co.uk/event/seniors-weekend-away-at-old-play-hawarden-gc/
CATEGORIES:Seniors Fixtures
END:VEVENT
BEGIN:VEVENT
DTSTART;TZID=UTC:20231005T080000
DTEND;TZID=UTC:20231005T120000
DTSTAMP:20260420T103731
CREATED:20230222T193354Z
LAST-MODIFIED:20230222T193354Z
UID:10000173-1696492800-1696507200@www.avrogolf.co.uk
SUMMARY:Seniors - 6x6x6 Stableford
DESCRIPTION:
URL:https://www.avrogolf.co.uk/event/seniors-6x6x6-stableford/
CATEGORIES:Seniors Fixtures
END:VEVENT
BEGIN:VEVENT
DTSTART;TZID=UTC:20231004T090000
DTEND;TZID=UTC:20231004T130000
DTSTAMP:20260420T103731
CREATED:20230222T193157Z
LAST-MODIFIED:20230222T193157Z
UID:10000172-1696410000-1696424400@www.avrogolf.co.uk
SUMMARY:Ladies - Stableford
DESCRIPTION:
URL:https://www.avrogolf.co.uk/event/ladies-stableford-29/
CATEGORIES:Ladies Fixtures
END:VEVENT
BEGIN:VEVENT
DTSTART;TZID=UTC:20231003T081000
DTEND;TZID=UTC:20231003T123000
DTSTAMP:20260420T103731
CREATED:20230222T193110Z
LAST-MODIFIED:20230222T193110Z
UID:10000171-1696320600-1696336200@www.avrogolf.co.uk
SUMMARY:Ladies - Stableford & 9 hole back
DESCRIPTION:
URL:https://www.avrogolf.co.uk/event/ladies-stableford-9-hole-back/
CATEGORIES:Ladies Fixtures
END:VEVENT
BEGIN:VEVENT
DTSTART;TZID=UTC:20231001T080000
DTEND;TZID=UTC:20231001T120000
DTSTAMP:20260420T103731
CREATED:20230222T192955Z
LAST-MODIFIED:20230222T192955Z
UID:10000170-1696147200-1696161600@www.avrogolf.co.uk
SUMMARY:Mens - October Medal
DESCRIPTION:
URL:https://www.avrogolf.co.uk/event/mens-october-medal/
CATEGORIES:Men's Fixtures
END:VEVENT
BEGIN:VEVENT
DTSTART;TZID=UTC:20230930T124500
DTEND;TZID=UTC:20230930T170000
DTSTAMP:20260420T103731
CREATED:20230223T190012Z
LAST-MODIFIED:20230223T190012Z
UID:10000215-1696077900-1696093200@www.avrogolf.co.uk
SUMMARY:Juniors - Junior Comp Team Matchplay
DESCRIPTION:
URL:https://www.avrogolf.co.uk/event/juniors-junior-comp-team-matchplay/
END:VEVENT
BEGIN:VEVENT
DTSTART;TZID=UTC:20230929T080000
DTEND;TZID=UTC:20230929T120000
DTSTAMP:20260420T103731
CREATED:20230222T192830Z
LAST-MODIFIED:20230222T192830Z
UID:10000169-1695974400-1695988800@www.avrogolf.co.uk
SUMMARY:Seniors - Stableford
DESCRIPTION:
URL:https://www.avrogolf.co.uk/event/seniors-stableford-4/
CATEGORIES:Seniors Fixtures
END:VEVENT
BEGIN:VEVENT
DTSTART;TZID=UTC:20230928T130000
DTEND;TZID=UTC:20230928T160000
DTSTAMP:20260420T103731
CREATED:20230222T192725Z
LAST-MODIFIED:20230222T192725Z
UID:10000168-1695906000-1695916800@www.avrogolf.co.uk
SUMMARY:Ladies - League Away vs Davenport
DESCRIPTION:1 for 1.30
URL:https://www.avrogolf.co.uk/event/ladies-league-away-vs-davenport/
CATEGORIES:Ladies Fixtures
END:VEVENT
BEGIN:VEVENT
DTSTART;TZID=UTC:20230927T090000
DTEND;TZID=UTC:20230927T130000
DTSTAMP:20260420T103731
CREATED:20230222T192510Z
LAST-MODIFIED:20230222T192510Z
UID:10000167-1695805200-1695819600@www.avrogolf.co.uk
SUMMARY:Ladies - Stableford
DESCRIPTION:
URL:https://www.avrogolf.co.uk/event/ladies-stableford-28/
CATEGORIES:Ladies Fixtures
END:VEVENT
BEGIN:VEVENT
DTSTART;TZID=UTC:20230926T081000
DTEND;TZID=UTC:20230926T123000
DTSTAMP:20260420T103731
CREATED:20230222T192421Z
LAST-MODIFIED:20230222T192421Z
UID:10000166-1695715800-1695731400@www.avrogolf.co.uk
SUMMARY:Ladies - Invitation to Seniors. Shotgun start 08:30
DESCRIPTION:
URL:https://www.avrogolf.co.uk/event/ladies-invitation-to-seniors-shotgun-start-0830/
CATEGORIES:Ladies Fixtures,Seniors Fixtures
END:VEVENT
BEGIN:VEVENT
DTSTART;TZID=UTC:20230924T080000
DTEND;TZID=UTC:20230924T120000
DTSTAMP:20260420T103731
CREATED:20230222T192252Z
LAST-MODIFIED:20230222T192252Z
UID:10000165-1695542400-1695556800@www.avrogolf.co.uk
SUMMARY:Mens - Captain vs Vice Captain
DESCRIPTION:
URL:https://www.avrogolf.co.uk/event/mens-captain-vs-vice-captain/
CATEGORIES:Men's Fixtures
END:VEVENT
BEGIN:VEVENT
DTSTART;TZID=UTC:20230923T124500
DTEND;TZID=UTC:20230923T170000
DTSTAMP:20260420T103731
CREATED:20230223T185846Z
LAST-MODIFIED:20230223T185846Z
UID:10000214-1695473100-1695488400@www.avrogolf.co.uk
SUMMARY:Juniors - Stableford League
DESCRIPTION:
URL:https://www.avrogolf.co.uk/event/juniors-stableford-league-4/
END:VEVENT
BEGIN:VEVENT
DTSTART;TZID=UTC:20230922T090000
DTEND;TZID=UTC:20230922T130000
DTSTAMP:20260420T103731
CREATED:20230222T192039Z
LAST-MODIFIED:20230222T192039Z
UID:10000163-1695373200-1695387600@www.avrogolf.co.uk
SUMMARY:Ladies - Westwood exchange visit at Avro
DESCRIPTION:9:30
URL:https://www.avrogolf.co.uk/event/ladies-westwood-exchange-visit-at-avro/
CATEGORIES:Ladies Fixtures
END:VEVENT
BEGIN:VEVENT
DTSTART;TZID=UTC:20230921T080000
DTEND;TZID=UTC:20230921T120000
DTSTAMP:20260420T103731
CREATED:20230222T191825Z
LAST-MODIFIED:20230222T191825Z
UID:10000162-1695283200-1695297600@www.avrogolf.co.uk
SUMMARY:Seniors - American Foursomes
DESCRIPTION:
URL:https://www.avrogolf.co.uk/event/seniors-american-foursomes/
CATEGORIES:Seniors Fixtures
END:VEVENT
BEGIN:VEVENT
DTSTART;TZID=UTC:20230920T090000
DTEND;TZID=UTC:20230920T130000
DTSTAMP:20260420T103731
CREATED:20230222T191735Z
LAST-MODIFIED:20230222T191735Z
UID:10000161-1695200400-1695214800@www.avrogolf.co.uk
SUMMARY:Ladies - Stableford
DESCRIPTION:
URL:https://www.avrogolf.co.uk/event/ladies-stableford-27/
CATEGORIES:Ladies Fixtures
END:VEVENT
BEGIN:VEVENT
DTSTART;TZID=UTC:20230919T081000
DTEND;TZID=UTC:20230919T123000
DTSTAMP:20260420T103731
CREATED:20230222T191639Z
LAST-MODIFIED:20230222T191639Z
UID:10000160-1695111000-1695126600@www.avrogolf.co.uk
SUMMARY:Ladies - Stableford & 9 holefront
DESCRIPTION:
URL:https://www.avrogolf.co.uk/event/ladies-stableford-9-holefront/
CATEGORIES:Ladies Fixtures
END:VEVENT
BEGIN:VEVENT
DTSTART;TZID=UTC:20230917T080000
DTEND;TZID=UTC:20230917T120000
DTSTAMP:20260420T103731
CREATED:20230222T191527Z
LAST-MODIFIED:20230222T191527Z
UID:10000159-1694937600-1694952000@www.avrogolf.co.uk
SUMMARY:Mens - Sunday Stableford
DESCRIPTION:
URL:https://www.avrogolf.co.uk/event/mens-sunday-stableford-3/
CATEGORIES:Men's Fixtures
END:VEVENT
BEGIN:VEVENT
DTSTART;TZID=UTC:20230916T124500
DTEND;TZID=UTC:20230916T170000
DTSTAMP:20260420T103731
CREATED:20230223T185802Z
LAST-MODIFIED:20230223T185802Z
UID:10000213-1694868300-1694883600@www.avrogolf.co.uk
SUMMARY:Juniors - Junior Comp
DESCRIPTION:
URL:https://www.avrogolf.co.uk/event/juniors-junior-comp-4/
END:VEVENT
BEGIN:VEVENT
DTSTART;TZID=UTC:20230916T092000
DTEND;TZID=UTC:20230916T104000
DTSTAMP:20260420T103731
CREATED:20230222T191355Z
LAST-MODIFIED:20230222T191355Z
UID:10000158-1694856000-1694860800@www.avrogolf.co.uk
SUMMARY:Ladies - 9 hole
DESCRIPTION:
URL:https://www.avrogolf.co.uk/event/ladies-9-hole-26/
CATEGORIES:Ladies Fixtures
END:VEVENT
BEGIN:VEVENT
DTSTART;TZID=UTC:20230915T164000
DTEND;TZID=UTC:20230915T184000
DTSTAMP:20260420T103731
CREATED:20230222T191233Z
LAST-MODIFIED:20230307T131735Z
UID:10000157-1694796000-1694803200@www.avrogolf.co.uk
SUMMARY:6th Charity Mixed Comp Fish & Chips
DESCRIPTION:
URL:https://www.avrogolf.co.uk/event/6th-charity-mixed-comp-fish-chips/
CATEGORIES:Ladies Fixtures,Men's Fixtures,Seniors Fixtures
END:VEVENT
BEGIN:VEVENT
DTSTART;TZID=UTC:20230914T080000
DTEND;TZID=UTC:20230914T120000
DTSTAMP:20260420T103731
CREATED:20230222T191047Z
LAST-MODIFIED:20230222T191047Z
UID:10000156-1694678400-1694692800@www.avrogolf.co.uk
SUMMARY:Seniors - Waltzing Stableford
DESCRIPTION:
URL:https://www.avrogolf.co.uk/event/seniors-waltzing-stableford/
CATEGORIES:Seniors Fixtures
END:VEVENT
BEGIN:VEVENT
DTSTART;TZID=UTC:20230913T090000
DTEND;TZID=UTC:20230913T130000
DTSTAMP:20260420T103731
CREATED:20230222T190853Z
LAST-MODIFIED:20230222T190853Z
UID:10000155-1694595600-1694610000@www.avrogolf.co.uk
SUMMARY:Ladies - Stableford
DESCRIPTION:
URL:https://www.avrogolf.co.uk/event/ladies-stableford-26/
CATEGORIES:Ladies Fixtures
END:VEVENT
BEGIN:VEVENT
DTSTART;TZID=UTC:20230912T081000
DTEND;TZID=UTC:20230912T123000
DTSTAMP:20260420T103731
CREATED:20230221T212201Z
LAST-MODIFIED:20230221T212201Z
UID:10000154-1694506200-1694521800@www.avrogolf.co.uk
SUMMARY:Ladies - 2 x 9 hole
DESCRIPTION:
URL:https://www.avrogolf.co.uk/event/ladies-2-x-9-hole-2/
CATEGORIES:Ladies Fixtures
END:VEVENT
BEGIN:VEVENT
DTSTART;TZID=UTC:20230910T080000
DTEND;TZID=UTC:20230910T120000
DTSTAMP:20260420T103731
CREATED:20230221T211915Z
LAST-MODIFIED:20230221T211915Z
UID:10000152-1694332800-1694347200@www.avrogolf.co.uk
SUMMARY:Mens - Sunday Stableford
DESCRIPTION:
URL:https://www.avrogolf.co.uk/event/mens-sunday-stableford-2/
CATEGORIES:Men's Fixtures
END:VEVENT
BEGIN:VEVENT
DTSTART;VALUE=DATE:20230910
DTEND;VALUE=DATE:20230912
DTSTAMP:20260420T103731
CREATED:20230221T212049Z
LAST-MODIFIED:20230221T212049Z
UID:10000153-1694304000-1694476799@www.avrogolf.co.uk
SUMMARY:Ladies - Away weekend Worsley Park
DESCRIPTION:
URL:https://www.avrogolf.co.uk/event/ladies-away-weekend-worsley-park/
CATEGORIES:Ladies Fixtures
END:VEVENT
END:VCALENDAR