BEGIN:VCALENDAR
VERSION:2.0
PRODID:-//Avro Golf Club - ECPv6.15.6//NONSGML v1.0//EN
CALSCALE:GREGORIAN
METHOD:PUBLISH
X-WR-CALNAME:Avro Golf Club
X-ORIGINAL-URL:https://www.avrogolf.co.uk
X-WR-CALDESC:Events for Avro Golf Club
REFRESH-INTERVAL;VALUE=DURATION:PT1H
X-Robots-Tag:noindex
X-PUBLISHED-TTL:PT1H
BEGIN:VTIMEZONE
TZID:UTC
BEGIN:STANDARD
TZOFFSETFROM:+0000
TZOFFSETTO:+0000
TZNAME:UTC
DTSTART:20220101T000000
END:STANDARD
END:VTIMEZONE
BEGIN:VEVENT
DTSTART;TZID=UTC:20230915T164000
DTEND;TZID=UTC:20230915T184000
DTSTAMP:20260420T125750
CREATED:20230222T191233Z
LAST-MODIFIED:20230307T131735Z
UID:10000157-1694796000-1694803200@www.avrogolf.co.uk
SUMMARY:6th Charity Mixed Comp Fish & Chips
DESCRIPTION:
URL:https://www.avrogolf.co.uk/event/6th-charity-mixed-comp-fish-chips/
CATEGORIES:Ladies Fixtures,Men's Fixtures,Seniors Fixtures
END:VEVENT
BEGIN:VEVENT
DTSTART;TZID=UTC:20230914T080000
DTEND;TZID=UTC:20230914T120000
DTSTAMP:20260420T125750
CREATED:20230222T191047Z
LAST-MODIFIED:20230222T191047Z
UID:10000156-1694678400-1694692800@www.avrogolf.co.uk
SUMMARY:Seniors - Waltzing Stableford
DESCRIPTION:
URL:https://www.avrogolf.co.uk/event/seniors-waltzing-stableford/
CATEGORIES:Seniors Fixtures
END:VEVENT
BEGIN:VEVENT
DTSTART;TZID=UTC:20230913T090000
DTEND;TZID=UTC:20230913T130000
DTSTAMP:20260420T125750
CREATED:20230222T190853Z
LAST-MODIFIED:20230222T190853Z
UID:10000155-1694595600-1694610000@www.avrogolf.co.uk
SUMMARY:Ladies - Stableford
DESCRIPTION:
URL:https://www.avrogolf.co.uk/event/ladies-stableford-26/
CATEGORIES:Ladies Fixtures
END:VEVENT
BEGIN:VEVENT
DTSTART;TZID=UTC:20230912T081000
DTEND;TZID=UTC:20230912T123000
DTSTAMP:20260420T125750
CREATED:20230221T212201Z
LAST-MODIFIED:20230221T212201Z
UID:10000154-1694506200-1694521800@www.avrogolf.co.uk
SUMMARY:Ladies - 2 x 9 hole
DESCRIPTION:
URL:https://www.avrogolf.co.uk/event/ladies-2-x-9-hole-2/
CATEGORIES:Ladies Fixtures
END:VEVENT
BEGIN:VEVENT
DTSTART;TZID=UTC:20230910T080000
DTEND;TZID=UTC:20230910T120000
DTSTAMP:20260420T125750
CREATED:20230221T211915Z
LAST-MODIFIED:20230221T211915Z
UID:10000152-1694332800-1694347200@www.avrogolf.co.uk
SUMMARY:Mens - Sunday Stableford
DESCRIPTION:
URL:https://www.avrogolf.co.uk/event/mens-sunday-stableford-2/
CATEGORIES:Men's Fixtures
END:VEVENT
BEGIN:VEVENT
DTSTART;VALUE=DATE:20230910
DTEND;VALUE=DATE:20230912
DTSTAMP:20260420T125750
CREATED:20230221T212049Z
LAST-MODIFIED:20230221T212049Z
UID:10000153-1694304000-1694476799@www.avrogolf.co.uk
SUMMARY:Ladies - Away weekend Worsley Park
DESCRIPTION:
URL:https://www.avrogolf.co.uk/event/ladies-away-weekend-worsley-park/
CATEGORIES:Ladies Fixtures
END:VEVENT
BEGIN:VEVENT
DTSTART;TZID=UTC:20230909T124500
DTEND;TZID=UTC:20230909T170000
DTSTAMP:20260420T125750
CREATED:20230223T185713Z
LAST-MODIFIED:20230223T185713Z
UID:10000212-1694263500-1694278800@www.avrogolf.co.uk
SUMMARY:Juniors - Captains Trophy
DESCRIPTION:
URL:https://www.avrogolf.co.uk/event/juniors-captains-trophy/
END:VEVENT
BEGIN:VEVENT
DTSTART;TZID=UTC:20230909T092000
DTEND;TZID=UTC:20230909T104000
DTSTAMP:20260420T125750
CREATED:20230221T211822Z
LAST-MODIFIED:20230221T211822Z
UID:10000151-1694251200-1694256000@www.avrogolf.co.uk
SUMMARY:Ladies - 9 hole
DESCRIPTION:
URL:https://www.avrogolf.co.uk/event/ladies-9-hole-25/
CATEGORIES:Ladies Fixtures
END:VEVENT
BEGIN:VEVENT
DTSTART;TZID=UTC:20230907T100000
DTEND;TZID=UTC:20230907T130000
DTSTAMP:20260420T125750
CREATED:20230221T211539Z
LAST-MODIFIED:20230221T211539Z
UID:10000149-1694080800-1694091600@www.avrogolf.co.uk
SUMMARY:Ladies - League Away vs Alderley Edge
DESCRIPTION:10 for 10.30
URL:https://www.avrogolf.co.uk/event/ladies-league-away-vs-alderley-edge/
CATEGORIES:Ladies Fixtures
END:VEVENT
BEGIN:VEVENT
DTSTART;TZID=UTC:20230907T090000
DTEND;TZID=UTC:20230907T130000
DTSTAMP:20260420T125750
CREATED:20230221T211711Z
LAST-MODIFIED:20230221T211711Z
UID:10000150-1694077200-1694091600@www.avrogolf.co.uk
SUMMARY:Seniors - vs Chapel en le Frith
DESCRIPTION:09:00 start
URL:https://www.avrogolf.co.uk/event/seniors-vs-chapel-en-le-frith/
CATEGORIES:Seniors Fixtures
END:VEVENT
BEGIN:VEVENT
DTSTART;TZID=UTC:20230906T090000
DTEND;TZID=UTC:20230906T130000
DTSTAMP:20260420T125750
CREATED:20230221T211357Z
LAST-MODIFIED:20230221T211357Z
UID:10000148-1693990800-1694005200@www.avrogolf.co.uk
SUMMARY:Ladies - Stableford
DESCRIPTION:
URL:https://www.avrogolf.co.uk/event/ladies-stableford-25/
CATEGORIES:Ladies Fixtures
END:VEVENT
BEGIN:VEVENT
DTSTART;TZID=UTC:20230905T081000
DTEND;TZID=UTC:20230905T123000
DTSTAMP:20260420T125750
CREATED:20230221T211259Z
LAST-MODIFIED:20230221T211259Z
UID:10000147-1693901400-1693917000@www.avrogolf.co.uk
SUMMARY:Ladies - Pink Comp & 9 hole back
DESCRIPTION:
URL:https://www.avrogolf.co.uk/event/ladies-pink-comp-9-hole-back/
CATEGORIES:Ladies Fixtures
END:VEVENT
BEGIN:VEVENT
DTSTART;TZID=UTC:20230903T080000
DTEND;TZID=UTC:20230903T120000
DTSTAMP:20260420T125750
CREATED:20230221T211130Z
LAST-MODIFIED:20230221T211130Z
UID:10000146-1693728000-1693742400@www.avrogolf.co.uk
SUMMARY:Mens - September Medal
DESCRIPTION:
URL:https://www.avrogolf.co.uk/event/mens-september-medal/
CATEGORIES:Men's Fixtures
END:VEVENT
BEGIN:VEVENT
DTSTART;TZID=UTC:20230902T124500
DTEND;TZID=UTC:20230902T170000
DTSTAMP:20260420T125750
CREATED:20230223T185606Z
LAST-MODIFIED:20230223T185606Z
UID:10000211-1693658700-1693674000@www.avrogolf.co.uk
SUMMARY:Juniors - Junior Comp
DESCRIPTION:
URL:https://www.avrogolf.co.uk/event/juniors-junior-comp-3/
END:VEVENT
BEGIN:VEVENT
DTSTART;TZID=UTC:20230902T092000
DTEND;TZID=UTC:20230902T104000
DTSTAMP:20260420T125750
CREATED:20230221T211024Z
LAST-MODIFIED:20230221T211024Z
UID:10000145-1693646400-1693651200@www.avrogolf.co.uk
SUMMARY:Ladies - 9 hole
DESCRIPTION:
URL:https://www.avrogolf.co.uk/event/ladies-9-hole-24/
CATEGORIES:Ladies Fixtures
END:VEVENT
BEGIN:VEVENT
DTSTART;TZID=UTC:20230831T090000
DTEND;TZID=UTC:20230831T130000
DTSTAMP:20260420T125750
CREATED:20230220T162657Z
LAST-MODIFIED:20230220T162657Z
UID:10000144-1693472400-1693486800@www.avrogolf.co.uk
SUMMARY:Seniors - vs Hazel Grove
DESCRIPTION:Shotgun start 09:00
URL:https://www.avrogolf.co.uk/event/seniors-vs-hazel-grove/
CATEGORIES:Seniors Fixtures
END:VEVENT
BEGIN:VEVENT
DTSTART;TZID=UTC:20230830T090000
DTEND;TZID=UTC:20230830T130000
DTSTAMP:20260420T125750
CREATED:20230220T161421Z
LAST-MODIFIED:20230220T161421Z
UID:10000143-1693386000-1693400400@www.avrogolf.co.uk
SUMMARY:Ladies - Stableford
DESCRIPTION:
URL:https://www.avrogolf.co.uk/event/ladies-stableford-24/
CATEGORIES:Ladies Fixtures
END:VEVENT
BEGIN:VEVENT
DTSTART;TZID=UTC:20230829T081000
DTEND;TZID=UTC:20230829T123000
DTSTAMP:20260420T125750
CREATED:20230220T161328Z
LAST-MODIFIED:20230220T161328Z
UID:10000142-1693296600-1693312200@www.avrogolf.co.uk
SUMMARY:Ladies - AJ Trophy Stableford & 9 hole front
DESCRIPTION:
URL:https://www.avrogolf.co.uk/event/ladies-aj-trophy-stableford-9-hole-front/
CATEGORIES:Ladies Fixtures
END:VEVENT
BEGIN:VEVENT
DTSTART;TZID=UTC:20230827T080000
DTEND;TZID=UTC:20230827T120000
DTSTAMP:20260420T125750
CREATED:20230220T161153Z
LAST-MODIFIED:20230220T161153Z
UID:10000141-1693123200-1693137600@www.avrogolf.co.uk
SUMMARY:Mens - President’s Trophy
DESCRIPTION:
URL:https://www.avrogolf.co.uk/event/mens-presidents-trophy/
CATEGORIES:Men's Fixtures
END:VEVENT
BEGIN:VEVENT
DTSTART;TZID=UTC:20230826T092000
DTEND;TZID=UTC:20230826T104000
DTSTAMP:20260420T125750
CREATED:20230220T161036Z
LAST-MODIFIED:20230220T161036Z
UID:10000140-1693041600-1693046400@www.avrogolf.co.uk
SUMMARY:Ladies - 9 hole
DESCRIPTION:
URL:https://www.avrogolf.co.uk/event/ladies-9-hole-23/
CATEGORIES:Ladies Fixtures
END:VEVENT
BEGIN:VEVENT
DTSTART;TZID=UTC:20230824T080000
DTEND;TZID=UTC:20230824T120000
DTSTAMP:20260420T125750
CREATED:20230220T160918Z
LAST-MODIFIED:20230220T160918Z
UID:10000139-1692864000-1692878400@www.avrogolf.co.uk
SUMMARY:Seniors - Greenkeepers Trophy Stableford
DESCRIPTION:
URL:https://www.avrogolf.co.uk/event/seniors-greenkeepers-trophy-stableford/
CATEGORIES:Seniors Fixtures
END:VEVENT
BEGIN:VEVENT
DTSTART;TZID=UTC:20230823T090000
DTEND;TZID=UTC:20230823T130000
DTSTAMP:20260420T125750
CREATED:20230220T160759Z
LAST-MODIFIED:20230220T160759Z
UID:10000138-1692781200-1692795600@www.avrogolf.co.uk
SUMMARY:Ladies - Stableford
DESCRIPTION:
URL:https://www.avrogolf.co.uk/event/ladies-stableford-23/
CATEGORIES:Ladies Fixtures
END:VEVENT
BEGIN:VEVENT
DTSTART;TZID=UTC:20230822T090000
DTEND;TZID=UTC:20230822T130000
DTSTAMP:20260420T125750
CREATED:20230220T160702Z
LAST-MODIFIED:20230220T160702Z
UID:10000137-1692694800-1692709200@www.avrogolf.co.uk
SUMMARY:Seniors - vs Shrigley Hall
DESCRIPTION:Shotgun start 09:00
URL:https://www.avrogolf.co.uk/event/seniors-vs-shrigley-hall-2/
CATEGORIES:Seniors Fixtures
END:VEVENT
BEGIN:VEVENT
DTSTART;TZID=UTC:20230822T081000
DTEND;TZID=UTC:20230822T123000
DTSTAMP:20260420T125750
CREATED:20230220T160436Z
LAST-MODIFIED:20230220T160533Z
UID:10000136-1692691800-1692707400@www.avrogolf.co.uk
SUMMARY:Ladies - EWGA Medal & 9 hole back
DESCRIPTION:
URL:https://www.avrogolf.co.uk/event/ladies-ewga-medal-9-hole-back-2/
CATEGORIES:Ladies Fixtures
END:VEVENT
BEGIN:VEVENT
DTSTART;TZID=UTC:20230820T080000
DTEND;TZID=UTC:20230820T120000
DTSTAMP:20260420T125750
CREATED:20230220T160308Z
LAST-MODIFIED:20230220T160308Z
UID:10000135-1692518400-1692532800@www.avrogolf.co.uk
SUMMARY:Mens - AmAmAm Team Stableford
DESCRIPTION:
URL:https://www.avrogolf.co.uk/event/mens-amamam-team-stableford/
CATEGORIES:Men's Fixtures
END:VEVENT
BEGIN:VEVENT
DTSTART;TZID=UTC:20230819T124500
DTEND;TZID=UTC:20230819T170000
DTSTAMP:20260420T125750
CREATED:20230223T185446Z
LAST-MODIFIED:20230223T185446Z
UID:10000210-1692449100-1692464400@www.avrogolf.co.uk
SUMMARY:Juniors - Stableford League
DESCRIPTION:
URL:https://www.avrogolf.co.uk/event/juniors-stableford-league-3/
END:VEVENT
BEGIN:VEVENT
DTSTART;TZID=UTC:20230819T092000
DTEND;TZID=UTC:20230819T104000
DTSTAMP:20260420T125750
CREATED:20230220T160122Z
LAST-MODIFIED:20230220T160122Z
UID:10000134-1692436800-1692441600@www.avrogolf.co.uk
SUMMARY:Ladies - 9 hole
DESCRIPTION:
URL:https://www.avrogolf.co.uk/event/ladies-9-hole-22/
CATEGORIES:Ladies Fixtures
END:VEVENT
BEGIN:VEVENT
DTSTART;TZID=UTC:20230818T164000
DTEND;TZID=UTC:20230818T184000
DTSTAMP:20260420T125750
CREATED:20230220T160014Z
LAST-MODIFIED:20230307T131828Z
UID:10000133-1692376800-1692384000@www.avrogolf.co.uk
SUMMARY:5th Charity Mixed
DESCRIPTION:
URL:https://www.avrogolf.co.uk/event/5th-charity-mixed/
CATEGORIES:Ladies Fixtures,Men's Fixtures,Seniors Fixtures
END:VEVENT
BEGIN:VEVENT
DTSTART;TZID=UTC:20230817T090000
DTEND;TZID=UTC:20230817T130000
DTSTAMP:20260420T125750
CREATED:20230220T155545Z
LAST-MODIFIED:20230220T155545Z
UID:10000132-1692262800-1692277200@www.avrogolf.co.uk
SUMMARY:Seniors - Cup Medal Draw for Partners
DESCRIPTION:
URL:https://www.avrogolf.co.uk/event/seniors-cup-medal-draw-for-partners/
CATEGORIES:Seniors Fixtures
END:VEVENT
BEGIN:VEVENT
DTSTART;TZID=UTC:20230816T090000
DTEND;TZID=UTC:20230816T130000
DTSTAMP:20260420T125750
CREATED:20230220T155427Z
LAST-MODIFIED:20230220T155427Z
UID:10000131-1692176400-1692190800@www.avrogolf.co.uk
SUMMARY:Ladies - Stableford
DESCRIPTION:
URL:https://www.avrogolf.co.uk/event/ladies-stableford-22/
CATEGORIES:Ladies Fixtures
END:VEVENT
END:VCALENDAR