BEGIN:VCALENDAR
VERSION:2.0
PRODID:-//Avro Golf Club - ECPv6.15.6//NONSGML v1.0//EN
CALSCALE:GREGORIAN
METHOD:PUBLISH
X-WR-CALNAME:Avro Golf Club
X-ORIGINAL-URL:https://www.avrogolf.co.uk
X-WR-CALDESC:Events for Avro Golf Club
REFRESH-INTERVAL;VALUE=DURATION:PT1H
X-Robots-Tag:noindex
X-PUBLISHED-TTL:PT1H
BEGIN:VTIMEZONE
TZID:UTC
BEGIN:STANDARD
TZOFFSETFROM:+0000
TZOFFSETTO:+0000
TZNAME:UTC
DTSTART:20220101T000000
END:STANDARD
END:VTIMEZONE
BEGIN:VEVENT
DTSTART;TZID=UTC:20230820T080000
DTEND;TZID=UTC:20230820T120000
DTSTAMP:20260420T152448
CREATED:20230220T160308Z
LAST-MODIFIED:20230220T160308Z
UID:10000135-1692518400-1692532800@www.avrogolf.co.uk
SUMMARY:Mens - AmAmAm Team Stableford
DESCRIPTION:
URL:https://www.avrogolf.co.uk/event/mens-amamam-team-stableford/
CATEGORIES:Men's Fixtures
END:VEVENT
BEGIN:VEVENT
DTSTART;TZID=UTC:20230819T124500
DTEND;TZID=UTC:20230819T170000
DTSTAMP:20260420T152448
CREATED:20230223T185446Z
LAST-MODIFIED:20230223T185446Z
UID:10000210-1692449100-1692464400@www.avrogolf.co.uk
SUMMARY:Juniors - Stableford League
DESCRIPTION:
URL:https://www.avrogolf.co.uk/event/juniors-stableford-league-3/
END:VEVENT
BEGIN:VEVENT
DTSTART;TZID=UTC:20230819T092000
DTEND;TZID=UTC:20230819T104000
DTSTAMP:20260420T152448
CREATED:20230220T160122Z
LAST-MODIFIED:20230220T160122Z
UID:10000134-1692436800-1692441600@www.avrogolf.co.uk
SUMMARY:Ladies - 9 hole
DESCRIPTION:
URL:https://www.avrogolf.co.uk/event/ladies-9-hole-22/
CATEGORIES:Ladies Fixtures
END:VEVENT
BEGIN:VEVENT
DTSTART;TZID=UTC:20230818T164000
DTEND;TZID=UTC:20230818T184000
DTSTAMP:20260420T152448
CREATED:20230220T160014Z
LAST-MODIFIED:20230307T131828Z
UID:10000133-1692376800-1692384000@www.avrogolf.co.uk
SUMMARY:5th Charity Mixed
DESCRIPTION:
URL:https://www.avrogolf.co.uk/event/5th-charity-mixed/
CATEGORIES:Ladies Fixtures,Men's Fixtures,Seniors Fixtures
END:VEVENT
BEGIN:VEVENT
DTSTART;TZID=UTC:20230817T090000
DTEND;TZID=UTC:20230817T130000
DTSTAMP:20260420T152448
CREATED:20230220T155545Z
LAST-MODIFIED:20230220T155545Z
UID:10000132-1692262800-1692277200@www.avrogolf.co.uk
SUMMARY:Seniors - Cup Medal Draw for Partners
DESCRIPTION:
URL:https://www.avrogolf.co.uk/event/seniors-cup-medal-draw-for-partners/
CATEGORIES:Seniors Fixtures
END:VEVENT
BEGIN:VEVENT
DTSTART;TZID=UTC:20230816T090000
DTEND;TZID=UTC:20230816T130000
DTSTAMP:20260420T152448
CREATED:20230220T155427Z
LAST-MODIFIED:20230220T155427Z
UID:10000131-1692176400-1692190800@www.avrogolf.co.uk
SUMMARY:Ladies - Stableford
DESCRIPTION:
URL:https://www.avrogolf.co.uk/event/ladies-stableford-22/
CATEGORIES:Ladies Fixtures
END:VEVENT
BEGIN:VEVENT
DTSTART;TZID=UTC:20230815T081000
DTEND;TZID=UTC:20230815T123000
DTSTAMP:20260420T152448
CREATED:20230220T155339Z
LAST-MODIFIED:20230220T155339Z
UID:10000130-1692087000-1692102600@www.avrogolf.co.uk
SUMMARY:Ladies - Percy Leigh Trophy
DESCRIPTION:
URL:https://www.avrogolf.co.uk/event/ladies-percy-leigh-trophy/
CATEGORIES:Ladies Fixtures
END:VEVENT
BEGIN:VEVENT
DTSTART;TZID=UTC:20230813T080000
DTEND;TZID=UTC:20230813T120000
DTSTAMP:20260420T152448
CREATED:20230220T155030Z
LAST-MODIFIED:20230220T155227Z
UID:10000129-1691913600-1691928000@www.avrogolf.co.uk
SUMMARY:Mens - P Lightfoot Stableford
DESCRIPTION:
URL:https://www.avrogolf.co.uk/event/mens-p-lightfoot-stableford/
CATEGORIES:Men's Fixtures
END:VEVENT
BEGIN:VEVENT
DTSTART;TZID=UTC:20230812T124500
DTEND;TZID=UTC:20230812T170000
DTSTAMP:20260420T152448
CREATED:20230223T185328Z
LAST-MODIFIED:20230223T185328Z
UID:10000209-1691844300-1691859600@www.avrogolf.co.uk
SUMMARY:Juniors - Roll Up
DESCRIPTION:
URL:https://www.avrogolf.co.uk/event/juniors-roll-up/
END:VEVENT
BEGIN:VEVENT
DTSTART;TZID=UTC:20230812T092000
DTEND;TZID=UTC:20230812T104000
DTSTAMP:20260420T152448
CREATED:20230220T154939Z
LAST-MODIFIED:20230220T154939Z
UID:10000128-1691832000-1691836800@www.avrogolf.co.uk
SUMMARY:Ladies - 9 hole
DESCRIPTION:
URL:https://www.avrogolf.co.uk/event/ladies-9-hole-21/
CATEGORIES:Ladies Fixtures
END:VEVENT
BEGIN:VEVENT
DTSTART;TZID=UTC:20230811T100000
DTEND;TZID=UTC:20230811T130000
DTSTAMP:20260420T152448
CREATED:20230220T154830Z
LAST-MODIFIED:20230220T154830Z
UID:10000127-1691748000-1691758800@www.avrogolf.co.uk
SUMMARY:Ladies - League Home vs Heaton Moor
DESCRIPTION:10:00 for 10:30
URL:https://www.avrogolf.co.uk/event/ladies-league-home-vs-heaton-moor/
CATEGORIES:Ladies Fixtures
END:VEVENT
BEGIN:VEVENT
DTSTART;TZID=UTC:20230810T090000
DTEND;TZID=UTC:20230810T130000
DTSTAMP:20260420T152448
CREATED:20230220T154704Z
LAST-MODIFIED:20230220T154704Z
UID:10000126-1691658000-1691672400@www.avrogolf.co.uk
SUMMARY:Seniors - vs Macclesfield Home
DESCRIPTION:Shotgun start 09:00
URL:https://www.avrogolf.co.uk/event/seniors-vs-macclesfield-home/
CATEGORIES:Seniors Fixtures
END:VEVENT
BEGIN:VEVENT
DTSTART;TZID=UTC:20230809T090000
DTEND;TZID=UTC:20230809T120000
DTSTAMP:20260420T152448
CREATED:20230220T154549Z
LAST-MODIFIED:20230220T154549Z
UID:10000125-1691571600-1691582400@www.avrogolf.co.uk
SUMMARY:Ladies - Stableford
DESCRIPTION:
URL:https://www.avrogolf.co.uk/event/ladies-stableford-21/
CATEGORIES:Ladies Fixtures
END:VEVENT
BEGIN:VEVENT
DTSTART;TZID=UTC:20230808T081000
DTEND;TZID=UTC:20230808T123000
DTSTAMP:20260420T152448
CREATED:20230220T154338Z
LAST-MODIFIED:20230220T154338Z
UID:10000124-1691482200-1691497800@www.avrogolf.co.uk
SUMMARY:Ladies - Joyce Tomkinson Medal & 9 hole front
DESCRIPTION:
URL:https://www.avrogolf.co.uk/event/ladies-joyce-tomkinson-medal-9-hole-front/
CATEGORIES:Ladies Fixtures
END:VEVENT
BEGIN:VEVENT
DTSTART;TZID=UTC:20230806T080000
DTEND;TZID=UTC:20230806T120000
DTSTAMP:20260420T152448
CREATED:20230220T153935Z
LAST-MODIFIED:20230220T154142Z
UID:10000123-1691308800-1691323200@www.avrogolf.co.uk
SUMMARY:Mens - August Medal
DESCRIPTION:
URL:https://www.avrogolf.co.uk/event/mens-august-medal/
CATEGORIES:Men's Fixtures
END:VEVENT
BEGIN:VEVENT
DTSTART;TZID=UTC:20230805T124500
DTEND;TZID=UTC:20230805T170000
DTSTAMP:20260420T152448
CREATED:20230223T150136Z
LAST-MODIFIED:20230223T150136Z
UID:10000208-1691239500-1691254800@www.avrogolf.co.uk
SUMMARY:Juniors - Junior Comp - Greensomes
DESCRIPTION:
URL:https://www.avrogolf.co.uk/event/juniors-junior-comp-greensomes/
END:VEVENT
BEGIN:VEVENT
DTSTART;TZID=UTC:20230805T092000
DTEND;TZID=UTC:20230805T104000
DTSTAMP:20260420T152448
CREATED:20230220T153839Z
LAST-MODIFIED:20230220T153839Z
UID:10000122-1691227200-1691232000@www.avrogolf.co.uk
SUMMARY:Ladies - 9 hole
DESCRIPTION:
URL:https://www.avrogolf.co.uk/event/ladies-9-hole-20/
CATEGORIES:Ladies Fixtures
END:VEVENT
BEGIN:VEVENT
DTSTART;TZID=UTC:20230803T090000
DTEND;TZID=UTC:20230803T150000
DTSTAMP:20260420T152448
CREATED:20230220T153457Z
LAST-MODIFIED:20230220T153722Z
UID:10000121-1691053200-1691074800@www.avrogolf.co.uk
SUMMARY:Seniors - Invitation Day
DESCRIPTION:Course closed until 3pm
URL:https://www.avrogolf.co.uk/event/seniors-vs-hazel-grove-away-2/
CATEGORIES:Seniors Fixtures
END:VEVENT
BEGIN:VEVENT
DTSTART;TZID=UTC:20230802T090000
DTEND;TZID=UTC:20230802T130000
DTSTAMP:20260420T152448
CREATED:20230220T152907Z
LAST-MODIFIED:20230220T153015Z
UID:10000120-1690966800-1690981200@www.avrogolf.co.uk
SUMMARY:Ladies - Stableford
DESCRIPTION:
URL:https://www.avrogolf.co.uk/event/ladies-stableford-20/
CATEGORIES:Ladies Fixtures
END:VEVENT
BEGIN:VEVENT
DTSTART;TZID=UTC:20230801T081000
DTEND;TZID=UTC:20230801T081000
DTSTAMP:20260420T152448
CREATED:20230423T201041Z
LAST-MODIFIED:20230423T201112Z
UID:10000228-1690877400-1690877400@www.avrogolf.co.uk
SUMMARY:Ladies - Miss Designer Golf & 9 hole front
DESCRIPTION:
URL:https://www.avrogolf.co.uk/event/ladies-miss-designer-golf-9-hole-front/
CATEGORIES:Ladies Fixtures
END:VEVENT
BEGIN:VEVENT
DTSTART;TZID=UTC:20230731T080000
DTEND;TZID=UTC:20230731T170000
DTSTAMP:20260420T152448
CREATED:20230216T113120Z
LAST-MODIFIED:20230223T193304Z
UID:10000118-1690790400-1690822800@www.avrogolf.co.uk
SUMMARY:Seniors - vs Hazel Grove Away
DESCRIPTION:Shotgun start 09:00
URL:https://www.avrogolf.co.uk/event/seniors-vs-hazel-grove-away/
CATEGORIES:Seniors Fixtures
END:VEVENT
BEGIN:VEVENT
DTSTART;TZID=UTC:20230730T080000
DTEND;TZID=UTC:20230730T120000
DTSTAMP:20260420T152448
CREATED:20230216T113015Z
LAST-MODIFIED:20230216T113015Z
UID:10000117-1690704000-1690718400@www.avrogolf.co.uk
SUMMARY:Mens - H Wood Trophy Medal
DESCRIPTION:
URL:https://www.avrogolf.co.uk/event/mens-h-wood-trophy-medal/
CATEGORIES:Men's Fixtures
END:VEVENT
BEGIN:VEVENT
DTSTART;TZID=UTC:20230729T124500
DTEND;TZID=UTC:20230729T170000
DTSTAMP:20260420T152448
CREATED:20230223T145757Z
LAST-MODIFIED:20230223T145757Z
UID:10000207-1690634700-1690650000@www.avrogolf.co.uk
SUMMARY:Juniors - Stableford League
DESCRIPTION:
URL:https://www.avrogolf.co.uk/event/juniors-stableford-league-2/
END:VEVENT
BEGIN:VEVENT
DTSTART;TZID=UTC:20230729T092000
DTEND;TZID=UTC:20230729T104000
DTSTAMP:20260420T152448
CREATED:20230216T112906Z
LAST-MODIFIED:20230216T112906Z
UID:10000116-1690622400-1690627200@www.avrogolf.co.uk
SUMMARY:Ladies - 9 hole
DESCRIPTION:
URL:https://www.avrogolf.co.uk/event/ladies-9-hole-19/
CATEGORIES:Ladies Fixtures
END:VEVENT
BEGIN:VEVENT
DTSTART;TZID=UTC:20230727T080000
DTEND;TZID=UTC:20230727T120000
DTSTAMP:20260420T152448
CREATED:20230216T112755Z
LAST-MODIFIED:20230216T112755Z
UID:10000115-1690444800-1690459200@www.avrogolf.co.uk
SUMMARY:Seniors - Peter Knight Trophy
DESCRIPTION:Stableford
URL:https://www.avrogolf.co.uk/event/seniors-peter-knight-trophy/
CATEGORIES:Seniors Fixtures
END:VEVENT
BEGIN:VEVENT
DTSTART;TZID=UTC:20230726T090000
DTEND;TZID=UTC:20230726T130000
DTSTAMP:20260420T152448
CREATED:20230216T112634Z
LAST-MODIFIED:20230216T112634Z
UID:10000114-1690362000-1690376400@www.avrogolf.co.uk
SUMMARY:Ladies - Stableford
DESCRIPTION:
URL:https://www.avrogolf.co.uk/event/ladies-stableford-19/
CATEGORIES:Ladies Fixtures
END:VEVENT
BEGIN:VEVENT
DTSTART;TZID=UTC:20230725T081000
DTEND;TZID=UTC:20230725T123000
DTSTAMP:20260420T152448
CREATED:20230216T112541Z
LAST-MODIFIED:20230216T112541Z
UID:10000113-1690272600-1690288200@www.avrogolf.co.uk
SUMMARY:Ladies - EWGA Medal & 9 hole front
DESCRIPTION:
URL:https://www.avrogolf.co.uk/event/ladies-ewga-medal-9-hole-front-2/
CATEGORIES:Ladies Fixtures
END:VEVENT
BEGIN:VEVENT
DTSTART;TZID=UTC:20230724T083000
DTEND;TZID=UTC:20230724T130000
DTSTAMP:20260420T152448
CREATED:20230216T112426Z
LAST-MODIFIED:20230216T112426Z
UID:10000112-1690187400-1690203600@www.avrogolf.co.uk
SUMMARY:Seniors - vs Macclesfield Away
DESCRIPTION:08:30
URL:https://www.avrogolf.co.uk/event/seniors-vs-macclesfield-away/
CATEGORIES:Seniors Fixtures
END:VEVENT
BEGIN:VEVENT
DTSTART;TZID=UTC:20230723T080000
DTEND;TZID=UTC:20230723T120000
DTSTAMP:20260420T152448
CREATED:20230216T112304Z
LAST-MODIFIED:20230216T112304Z
UID:10000111-1690099200-1690113600@www.avrogolf.co.uk
SUMMARY:Mens - Sunday Stableford
DESCRIPTION:
URL:https://www.avrogolf.co.uk/event/mens-sunday-stableford/
CATEGORIES:Men's Fixtures
END:VEVENT
BEGIN:VEVENT
DTSTART;TZID=UTC:20230722T124500
DTEND;TZID=UTC:20230722T170000
DTSTAMP:20260420T152448
CREATED:20230223T145650Z
LAST-MODIFIED:20230223T145650Z
UID:10000206-1690029900-1690045200@www.avrogolf.co.uk
SUMMARY:Juniors - Junior Comp
DESCRIPTION:
URL:https://www.avrogolf.co.uk/event/juniors-junior-comp-2/
END:VEVENT
END:VCALENDAR