BEGIN:VCALENDAR
VERSION:2.0
PRODID:-//Avro Golf Club - ECPv6.15.6//NONSGML v1.0//EN
CALSCALE:GREGORIAN
METHOD:PUBLISH
X-WR-CALNAME:Avro Golf Club
X-ORIGINAL-URL:https://www.avrogolf.co.uk
X-WR-CALDESC:Events for Avro Golf Club
REFRESH-INTERVAL;VALUE=DURATION:PT1H
X-Robots-Tag:noindex
X-PUBLISHED-TTL:PT1H
BEGIN:VTIMEZONE
TZID:UTC
BEGIN:STANDARD
TZOFFSETFROM:+0000
TZOFFSETTO:+0000
TZNAME:UTC
DTSTART:20220101T000000
END:STANDARD
END:VTIMEZONE
BEGIN:VEVENT
DTSTART;TZID=UTC:20230610T124500
DTEND;TZID=UTC:20230610T170000
DTSTAMP:20260420T223810
CREATED:20230223T145048Z
LAST-MODIFIED:20230223T191615Z
UID:10000200-1686401100-1686416400@www.avrogolf.co.uk
SUMMARY:Juniors - Junior Comp
DESCRIPTION:
URL:https://www.avrogolf.co.uk/event/junior-comp/
END:VEVENT
BEGIN:VEVENT
DTSTART;TZID=UTC:20230610T092000
DTEND;TZID=UTC:20230610T104000
DTSTAMP:20260420T223810
CREATED:20230213T163433Z
LAST-MODIFIED:20230213T163433Z
UID:10000072-1686388800-1686393600@www.avrogolf.co.uk
SUMMARY:Ladies - 9 hole
DESCRIPTION:
URL:https://www.avrogolf.co.uk/event/ladies-9-hole-12/
CATEGORIES:Ladies Fixtures
END:VEVENT
BEGIN:VEVENT
DTSTART;TZID=UTC:20230608T090000
DTEND;TZID=UTC:20230608T130000
DTSTAMP:20260420T223810
CREATED:20230213T163332Z
LAST-MODIFIED:20230213T163332Z
UID:10000071-1686214800-1686229200@www.avrogolf.co.uk
SUMMARY:Seniors - vs Styal Away
DESCRIPTION:
URL:https://www.avrogolf.co.uk/event/seniors-vs-styal-away/
CATEGORIES:Seniors Fixtures
END:VEVENT
BEGIN:VEVENT
DTSTART;TZID=UTC:20230607T090000
DTEND;TZID=UTC:20230607T130000
DTSTAMP:20260420T223810
CREATED:20230213T163231Z
LAST-MODIFIED:20230213T163231Z
UID:10000070-1686128400-1686142800@www.avrogolf.co.uk
SUMMARY:Ladies - Stableford
DESCRIPTION:
URL:https://www.avrogolf.co.uk/event/ladies-stableford-12/
CATEGORIES:Ladies Fixtures
END:VEVENT
BEGIN:VEVENT
DTSTART;TZID=UTC:20230606T081000
DTEND;TZID=UTC:20230606T133000
DTSTAMP:20260420T223810
CREATED:20230213T163130Z
LAST-MODIFIED:20230213T164324Z
UID:10000069-1686039000-1686058200@www.avrogolf.co.uk
SUMMARY:Ladies - Ping Comp & 9 hole front
DESCRIPTION:
URL:https://www.avrogolf.co.uk/event/ladies-ping-comp-9-hole-front/
CATEGORIES:Ladies Fixtures
END:VEVENT
BEGIN:VEVENT
DTSTART;TZID=UTC:20230605T100000
DTEND;TZID=UTC:20230605T130000
DTSTAMP:20260420T223810
CREATED:20230213T163011Z
LAST-MODIFIED:20230213T163011Z
UID:10000068-1685959200-1685970000@www.avrogolf.co.uk
SUMMARY:Ladies - Friendly vs Cheadle
DESCRIPTION:
URL:https://www.avrogolf.co.uk/event/ladies-friendly-vs-cheadle/
CATEGORIES:Ladies Fixtures
END:VEVENT
BEGIN:VEVENT
DTSTART;TZID=UTC:20230604T080000
DTEND;TZID=UTC:20230604T120000
DTSTAMP:20260420T223810
CREATED:20230213T162911Z
LAST-MODIFIED:20230227T153837Z
UID:10000067-1685865600-1685880000@www.avrogolf.co.uk
SUMMARY:Mens - June Medal
DESCRIPTION:
URL:https://www.avrogolf.co.uk/event/mens-june-medal/
CATEGORIES:Men's Fixtures
END:VEVENT
BEGIN:VEVENT
DTSTART;TZID=UTC:20230603T124500
DTEND;TZID=UTC:20230603T170000
DTSTAMP:20260420T223810
CREATED:20230223T144958Z
LAST-MODIFIED:20230223T191427Z
UID:10000199-1685796300-1685811600@www.avrogolf.co.uk
SUMMARY:Juniors - Junior Comp - Stableford League
DESCRIPTION:
URL:https://www.avrogolf.co.uk/event/junior-comp-stableford-league/
END:VEVENT
BEGIN:VEVENT
DTSTART;TZID=UTC:20230603T092000
DTEND;TZID=UTC:20230603T104000
DTSTAMP:20260420T223810
CREATED:20230213T162812Z
LAST-MODIFIED:20230213T162812Z
UID:10000066-1685784000-1685788800@www.avrogolf.co.uk
SUMMARY:Ladies - 9 hole
DESCRIPTION:
URL:https://www.avrogolf.co.uk/event/ladies-9-hole-11/
CATEGORIES:Ladies Fixtures
END:VEVENT
BEGIN:VEVENT
DTSTART;TZID=UTC:20230601T090000
DTEND;TZID=UTC:20230601T130000
DTSTAMP:20260420T223810
CREATED:20230213T164447Z
LAST-MODIFIED:20230213T164447Z
UID:10000079-1685610000-1685624400@www.avrogolf.co.uk
SUMMARY:Seniors - Stableford
DESCRIPTION:
URL:https://www.avrogolf.co.uk/event/seniors-stableford/
CATEGORIES:Seniors Fixtures
END:VEVENT
BEGIN:VEVENT
DTSTART;TZID=UTC:20230531T170000
DTEND;TZID=UTC:20230531T190000
DTSTAMP:20260420T223810
CREATED:20230213T162632Z
LAST-MODIFIED:20230220T195455Z
UID:10000065-1685552400-1685559600@www.avrogolf.co.uk
SUMMARY:Ladies - Friendly Away vs Marple
DESCRIPTION:
URL:https://www.avrogolf.co.uk/event/ladies-friendly-away-vs-marple/
CATEGORIES:Ladies Fixtures
END:VEVENT
BEGIN:VEVENT
DTSTART;TZID=UTC:20230531T090000
DTEND;TZID=UTC:20230531T130000
DTSTAMP:20260420T223810
CREATED:20230212T140548Z
LAST-MODIFIED:20230212T140548Z
UID:10000055-1685523600-1685538000@www.avrogolf.co.uk
SUMMARY:Ladies - Stableford
DESCRIPTION:
URL:https://www.avrogolf.co.uk/event/ladies-stableford-11/
CATEGORIES:Ladies Fixtures
END:VEVENT
BEGIN:VEVENT
DTSTART;TZID=UTC:20230530T081000
DTEND;TZID=UTC:20230530T133000
DTSTAMP:20260420T223810
CREATED:20230212T140438Z
LAST-MODIFIED:20230423T202554Z
UID:10000054-1685434200-1685453400@www.avrogolf.co.uk
SUMMARY:Ladies - 2nd round Rose Bowl & 9 hole back
DESCRIPTION:
URL:https://www.avrogolf.co.uk/event/ladies-strawberry-and-wine-9-hole-back/
CATEGORIES:Ladies Fixtures
END:VEVENT
BEGIN:VEVENT
DTSTART;TZID=UTC:20230528T080000
DTEND;TZID=UTC:20230528T120000
DTSTAMP:20260420T223810
CREATED:20230212T124905Z
LAST-MODIFIED:20230227T153659Z
UID:10000035-1685260800-1685275200@www.avrogolf.co.uk
SUMMARY:Mens - Lancaster Club Medal
DESCRIPTION:
URL:https://www.avrogolf.co.uk/event/mens-lancaster-club-medal/
CATEGORIES:Men's Fixtures
END:VEVENT
BEGIN:VEVENT
DTSTART;TZID=UTC:20230527T092000
DTEND;TZID=UTC:20230527T104000
DTSTAMP:20260420T223810
CREATED:20230212T140210Z
LAST-MODIFIED:20230212T140210Z
UID:10000053-1685179200-1685184000@www.avrogolf.co.uk
SUMMARY:Ladies - 9 hole
DESCRIPTION:
URL:https://www.avrogolf.co.uk/event/ladies-9-hole-10/
CATEGORIES:Ladies Fixtures
END:VEVENT
BEGIN:VEVENT
DTSTART;TZID=UTC:20230525T090000
DTEND;TZID=UTC:20230525T130000
DTSTAMP:20260420T223810
CREATED:20230212T143311Z
LAST-MODIFIED:20230223T193053Z
UID:10000064-1685005200-1685019600@www.avrogolf.co.uk
SUMMARY:Seniors - vs New Mills. Shotgun start
DESCRIPTION:
URL:https://www.avrogolf.co.uk/event/seniors-vs-new-mills-shotgun-start/
CATEGORIES:Seniors Fixtures
END:VEVENT
BEGIN:VEVENT
DTSTART;TZID=UTC:20230524T090000
DTEND;TZID=UTC:20230524T130000
DTSTAMP:20260420T223810
CREATED:20230212T140107Z
LAST-MODIFIED:20230212T140107Z
UID:10000052-1684918800-1684933200@www.avrogolf.co.uk
SUMMARY:Ladies - Stableford
DESCRIPTION:
URL:https://www.avrogolf.co.uk/event/ladies-stableford-10/
CATEGORIES:Ladies Fixtures
END:VEVENT
BEGIN:VEVENT
DTSTART;TZID=UTC:20230523T081000
DTEND;TZID=UTC:20230523T133000
DTSTAMP:20260420T223810
CREATED:20230212T135955Z
LAST-MODIFIED:20230423T202427Z
UID:10000051-1684829400-1684848600@www.avrogolf.co.uk
SUMMARY:Ladies - Strawberry and Wine & 9 hole back
DESCRIPTION:
URL:https://www.avrogolf.co.uk/event/ladies-2nd-round-rose-bowl-9-hole-back/
CATEGORIES:Ladies Fixtures
END:VEVENT
BEGIN:VEVENT
DTSTART;TZID=UTC:20230522T100000
DTEND;TZID=UTC:20230522T140000
DTSTAMP:20260420T223810
CREATED:20230212T143202Z
LAST-MODIFIED:20230212T143202Z
UID:10000063-1684749600-1684764000@www.avrogolf.co.uk
SUMMARY:Seniors - Day out Marple
DESCRIPTION:
URL:https://www.avrogolf.co.uk/event/seniors-day-out-marple/
CATEGORIES:Seniors Fixtures
END:VEVENT
BEGIN:VEVENT
DTSTART;TZID=UTC:20230521T080000
DTEND;TZID=UTC:20230521T120000
DTSTAMP:20260420T223810
CREATED:20230212T124744Z
LAST-MODIFIED:20230227T153543Z
UID:10000034-1684656000-1684670400@www.avrogolf.co.uk
SUMMARY:Mens - Brian Heslop Memorial Stableford
DESCRIPTION:
URL:https://www.avrogolf.co.uk/event/mens-brian-heslop-memorial-stableford/
CATEGORIES:Men's Fixtures
END:VEVENT
BEGIN:VEVENT
DTSTART;TZID=UTC:20230520T124500
DTEND;TZID=UTC:20230520T170000
DTSTAMP:20260420T223810
CREATED:20230212T142202Z
LAST-MODIFIED:20230223T191348Z
UID:10000058-1684586700-1684602000@www.avrogolf.co.uk
SUMMARY:Juniors - Junior Comp - Team Matchplay
DESCRIPTION:
URL:https://www.avrogolf.co.uk/event/juniors-8/
END:VEVENT
BEGIN:VEVENT
DTSTART;TZID=UTC:20230520T092000
DTEND;TZID=UTC:20230520T104000
DTSTAMP:20260420T223810
CREATED:20230212T135836Z
LAST-MODIFIED:20230212T135836Z
UID:10000050-1684574400-1684579200@www.avrogolf.co.uk
SUMMARY:Ladies - 9 hole
DESCRIPTION:
URL:https://www.avrogolf.co.uk/event/ladies-9-hole-9/
CATEGORIES:Ladies Fixtures
END:VEVENT
BEGIN:VEVENT
DTSTART;TZID=UTC:20230519T164000
DTEND;TZID=UTC:20230519T184000
DTSTAMP:20260420T223810
CREATED:20230212T124623Z
LAST-MODIFIED:20230307T132014Z
UID:10000033-1684514400-1684521600@www.avrogolf.co.uk
SUMMARY:2nd Charity Mixed Comp
DESCRIPTION:
URL:https://www.avrogolf.co.uk/event/2nd-charity-mixed-comp/
CATEGORIES:Ladies Fixtures,Men's Fixtures,Seniors Fixtures
END:VEVENT
BEGIN:VEVENT
DTSTART;TZID=UTC:20230518T090000
DTEND;TZID=UTC:20230518T130000
DTSTAMP:20260420T223810
CREATED:20230212T143032Z
LAST-MODIFIED:20230227T153433Z
UID:10000062-1684400400-1684414800@www.avrogolf.co.uk
SUMMARY:Seniors - vs Shrigley Hall
DESCRIPTION:
URL:https://www.avrogolf.co.uk/event/seniors-vs-shrigley-hall/
CATEGORIES:Seniors Fixtures
END:VEVENT
BEGIN:VEVENT
DTSTART;TZID=UTC:20230517T090000
DTEND;TZID=UTC:20230517T130000
DTSTAMP:20260420T223810
CREATED:20230212T135702Z
LAST-MODIFIED:20230212T135702Z
UID:10000049-1684314000-1684328400@www.avrogolf.co.uk
SUMMARY:Ladies - Stableford
DESCRIPTION:
URL:https://www.avrogolf.co.uk/event/ladies-stableford-9/
CATEGORIES:Ladies Fixtures
END:VEVENT
BEGIN:VEVENT
DTSTART;TZID=UTC:20230516T081000
DTEND;TZID=UTC:20230516T133000
DTSTAMP:20260420T223810
CREATED:20230212T135542Z
LAST-MODIFIED:20230212T144041Z
UID:10000048-1684224600-1684243800@www.avrogolf.co.uk
SUMMARY:Ladies - 2 x 9 hole
DESCRIPTION:
URL:https://www.avrogolf.co.uk/event/ladies-2-x-9-hole/
CATEGORIES:Ladies Fixtures
END:VEVENT
BEGIN:VEVENT
DTSTART;TZID=UTC:20230515T090000
DTEND;TZID=UTC:20230515T130000
DTSTAMP:20260420T223810
CREATED:20230212T135440Z
LAST-MODIFIED:20230212T135440Z
UID:10000047-1684141200-1684155600@www.avrogolf.co.uk
SUMMARY:Ladies - Away Day Chapel en le Frith
DESCRIPTION:
URL:https://www.avrogolf.co.uk/event/ladies-away-day-chapel-en-le-frith/
CATEGORIES:Ladies Fixtures
END:VEVENT
BEGIN:VEVENT
DTSTART;TZID=UTC:20230514T080000
DTEND;TZID=UTC:20230514T120000
DTSTAMP:20260420T223810
CREATED:20230212T124353Z
LAST-MODIFIED:20230227T153312Z
UID:10000032-1684051200-1684065600@www.avrogolf.co.uk
SUMMARY:Mens - Greenall Whitely Medal
DESCRIPTION:
URL:https://www.avrogolf.co.uk/event/mens-greenall-whitely-medal/
CATEGORIES:Men's Fixtures
END:VEVENT
BEGIN:VEVENT
DTSTART;TZID=UTC:20230513T124500
DTEND;TZID=UTC:20230513T170000
DTSTAMP:20260420T223810
CREATED:20230212T142118Z
LAST-MODIFIED:20230223T144624Z
UID:10000057-1683981900-1683997200@www.avrogolf.co.uk
SUMMARY:Juniors - Presidents Trophy
DESCRIPTION:
URL:https://www.avrogolf.co.uk/event/juniors-7/
END:VEVENT
BEGIN:VEVENT
DTSTART;TZID=UTC:20230513T092000
DTEND;TZID=UTC:20230513T104000
DTSTAMP:20260420T223810
CREATED:20230212T135310Z
LAST-MODIFIED:20230212T135310Z
UID:10000046-1683969600-1683974400@www.avrogolf.co.uk
SUMMARY:Ladies - 9 hole
DESCRIPTION:
URL:https://www.avrogolf.co.uk/event/ladies-9-hole-8/
CATEGORIES:Ladies Fixtures
END:VEVENT
END:VCALENDAR