BEGIN:VCALENDAR
VERSION:2.0
PRODID:-//Avro Golf Club - ECPv6.15.6//NONSGML v1.0//EN
CALSCALE:GREGORIAN
METHOD:PUBLISH
X-WR-CALNAME:Avro Golf Club
X-ORIGINAL-URL:https://www.avrogolf.co.uk
X-WR-CALDESC:Events for Avro Golf Club
REFRESH-INTERVAL;VALUE=DURATION:PT1H
X-Robots-Tag:noindex
X-PUBLISHED-TTL:PT1H
BEGIN:VTIMEZONE
TZID:UTC
BEGIN:STANDARD
TZOFFSETFROM:+0000
TZOFFSETTO:+0000
TZNAME:UTC
DTSTART:20220101T000000
END:STANDARD
END:VTIMEZONE
BEGIN:VEVENT
DTSTART;TZID=UTC:20230422T092000
DTEND;TZID=UTC:20230422T104000
DTSTAMP:20260421T040752
CREATED:20230208T202501Z
LAST-MODIFIED:20230212T130000Z
UID:10000018-1682155200-1682160000@www.avrogolf.co.uk
SUMMARY:Ladies - 9 hole
DESCRIPTION:
URL:https://www.avrogolf.co.uk/event/ladies-9-hole-4/
CATEGORIES:Ladies Fixtures
END:VEVENT
BEGIN:VEVENT
DTSTART;TZID=UTC:20230421T164000
DTEND;TZID=UTC:20230421T174000
DTSTAMP:20260421T040752
CREATED:20230206T151145Z
LAST-MODIFIED:20230212T125912Z
UID:10000017-1682095200-1682098800@www.avrogolf.co.uk
SUMMARY:1st Charity Mixed Comp
DESCRIPTION:
URL:https://www.avrogolf.co.uk/event/1st-charity-mixed-comp/
CATEGORIES:Ladies Fixtures,Men's Fixtures,Seniors Fixtures
END:VEVENT
BEGIN:VEVENT
DTSTART;TZID=UTC:20230420T080000
DTEND;TZID=UTC:20230420T120000
DTSTAMP:20260421T040752
CREATED:20230206T150830Z
LAST-MODIFIED:20230223T192946Z
UID:10000016-1681977600-1681992000@www.avrogolf.co.uk
SUMMARY:Seniors Home vs Gatley
DESCRIPTION:
URL:https://www.avrogolf.co.uk/event/seniors-home-vs-gatley/
CATEGORIES:Seniors Fixtures
END:VEVENT
BEGIN:VEVENT
DTSTART;TZID=UTC:20230419T090000
DTEND;TZID=UTC:20230419T130000
DTSTAMP:20260421T040752
CREATED:20230206T150609Z
LAST-MODIFIED:20230212T143810Z
UID:10000015-1681894800-1681909200@www.avrogolf.co.uk
SUMMARY:Ladies - Stableford
DESCRIPTION:
URL:https://www.avrogolf.co.uk/event/ladies-stableford-3/
CATEGORIES:Ladies Fixtures
END:VEVENT
BEGIN:VEVENT
DTSTART;TZID=UTC:20230418T081000
DTEND;TZID=UTC:20230418T133000
DTSTAMP:20260421T040752
CREATED:20230206T150020Z
LAST-MODIFIED:20230212T125729Z
UID:10000014-1681805400-1681824600@www.avrogolf.co.uk
SUMMARY:Ladies - 1st Round Singles Knockout
DESCRIPTION:18 & 9 holes Back
URL:https://www.avrogolf.co.uk/event/ladies-1st-round-singles-knockout/
CATEGORIES:Ladies Fixtures
END:VEVENT
BEGIN:VEVENT
DTSTART;TZID=UTC:20230416T130000
DTEND;TZID=UTC:20230416T140000
DTSTAMP:20260421T040752
CREATED:20230411T210857Z
LAST-MODIFIED:20230411T210857Z
UID:10000225-1681650000-1681653600@www.avrogolf.co.uk
SUMMARY:Captains Drive-in
DESCRIPTION:Club\, Men’s\, Ladies\, and Junior Captains drive – in.
URL:https://www.avrogolf.co.uk/event/captains-drive-in/
END:VEVENT
BEGIN:VEVENT
DTSTART;TZID=UTC:20230416T080000
DTEND;TZID=UTC:20230416T120000
DTSTAMP:20260421T040752
CREATED:20230206T143409Z
LAST-MODIFIED:20230227T152639Z
UID:10000013-1681632000-1681646400@www.avrogolf.co.uk
SUMMARY:Mens - April Medal
DESCRIPTION:
URL:https://www.avrogolf.co.uk/event/ladies-9-hole-3/
CATEGORIES:Men's Fixtures
END:VEVENT
BEGIN:VEVENT
DTSTART;TZID=UTC:20230415T124500
DTEND;TZID=UTC:20230415T170000
DTSTAMP:20260421T040752
CREATED:20230212T131753Z
LAST-MODIFIED:20230223T191108Z
UID:10000040-1681562700-1681578000@www.avrogolf.co.uk
SUMMARY:Juniors - Junior Comp
DESCRIPTION:
URL:https://www.avrogolf.co.uk/event/juniors-2/
END:VEVENT
BEGIN:VEVENT
DTSTART;TZID=UTC:20230415T092000
DTEND;TZID=UTC:20230415T104000
DTSTAMP:20260421T040752
CREATED:20230212T130956Z
LAST-MODIFIED:20230212T130956Z
UID:10000037-1681550400-1681555200@www.avrogolf.co.uk
SUMMARY:Ladies - 9 hole
DESCRIPTION:
URL:https://www.avrogolf.co.uk/event/ladies-9-hole-7/
CATEGORIES:Ladies Fixtures
END:VEVENT
BEGIN:VEVENT
DTSTART;TZID=UTC:20230414T103000
DTEND;TZID=UTC:20230414T133000
DTSTAMP:20260421T040752
CREATED:20230206T143207Z
LAST-MODIFIED:20230212T125607Z
UID:10000012-1681468200-1681479000@www.avrogolf.co.uk
SUMMARY:Ladies - League Home vs New Mills
DESCRIPTION:
URL:https://www.avrogolf.co.uk/event/ladies-league-home-vs-new-mills/
CATEGORIES:Ladies Fixtures
END:VEVENT
BEGIN:VEVENT
DTSTART;TZID=UTC:20230412T090000
DTEND;TZID=UTC:20230412T130000
DTSTAMP:20260421T040752
CREATED:20230212T130819Z
LAST-MODIFIED:20230212T130819Z
UID:10000036-1681290000-1681304400@www.avrogolf.co.uk
SUMMARY:Ladies - Stableford
DESCRIPTION:
URL:https://www.avrogolf.co.uk/event/ladies-stableford-6/
CATEGORIES:Ladies Fixtures
END:VEVENT
BEGIN:VEVENT
DTSTART;TZID=UTC:20230411T081000
DTEND;TZID=UTC:20230411T133000
DTSTAMP:20260421T040752
CREATED:20230206T141018Z
LAST-MODIFIED:20230212T125531Z
UID:10000010-1681200600-1681219800@www.avrogolf.co.uk
SUMMARY:Ladies - 18 & 9 hole Stableford Comps
DESCRIPTION:
URL:https://www.avrogolf.co.uk/event/ladies-18-9-hole-stableford-comps/
CATEGORIES:Ladies Fixtures
END:VEVENT
BEGIN:VEVENT
DTSTART;TZID=UTC:20230410T100000
DTEND;TZID=UTC:20230410T163000
DTSTAMP:20260421T040752
CREATED:20230307T132556Z
LAST-MODIFIED:20230307T132556Z
UID:10000224-1681120800-1681144200@www.avrogolf.co.uk
SUMMARY:Easter Egg Competition
DESCRIPTION:
URL:https://www.avrogolf.co.uk/event/easter-egg-competition/
CATEGORIES:Golf Tournaments
END:VEVENT
BEGIN:VEVENT
DTSTART;TZID=UTC:20230409T080000
DTEND;TZID=UTC:20230409T120000
DTSTAMP:20260421T040752
CREATED:20230206T140609Z
LAST-MODIFIED:20230227T152532Z
UID:10000009-1681027200-1681041600@www.avrogolf.co.uk
SUMMARY:Mens - Captains Charity Stableford
DESCRIPTION:
URL:https://www.avrogolf.co.uk/event/captains-charity-stableford/
CATEGORIES:Men's Fixtures
END:VEVENT
BEGIN:VEVENT
DTSTART;TZID=UTC:20230408T092000
DTEND;TZID=UTC:20230408T104000
DTSTAMP:20260421T040752
CREATED:20230206T135753Z
LAST-MODIFIED:20230212T125332Z
UID:10000008-1680945600-1680950400@www.avrogolf.co.uk
SUMMARY:Ladies - 9 Hole
DESCRIPTION:
URL:https://www.avrogolf.co.uk/event/ladies-9-hole-2/
CATEGORIES:Ladies Fixtures
END:VEVENT
BEGIN:VEVENT
DTSTART;TZID=UTC:20230405T090000
DTEND;TZID=UTC:20230405T130000
DTSTAMP:20260421T040752
CREATED:20230206T135518Z
LAST-MODIFIED:20230212T125224Z
UID:10000007-1680685200-1680699600@www.avrogolf.co.uk
SUMMARY:Seniors - Away vs Cheadle
DESCRIPTION:Shotgun start
URL:https://www.avrogolf.co.uk/event/seniors-away-vs-cheadle/
CATEGORIES:Seniors Fixtures
END:VEVENT
BEGIN:VEVENT
DTSTART;TZID=UTC:20230405T090000
DTEND;TZID=UTC:20230405T130000
DTSTAMP:20260421T040752
CREATED:20230206T114432Z
LAST-MODIFIED:20230212T143717Z
UID:10000006-1680685200-1680699600@www.avrogolf.co.uk
SUMMARY:Ladies - Stableford
DESCRIPTION:
URL:https://www.avrogolf.co.uk/event/ladies-stableford/
CATEGORIES:Ladies Fixtures
END:VEVENT
BEGIN:VEVENT
DTSTART;TZID=UTC:20230404T090000
DTEND;TZID=UTC:20230404T133000
DTSTAMP:20260421T040752
CREATED:20230206T113331Z
LAST-MODIFIED:20230212T125148Z
UID:10000005-1680598800-1680615000@www.avrogolf.co.uk
SUMMARY:Ladies - Easter Competition
DESCRIPTION:Shotgun start
URL:https://www.avrogolf.co.uk/event/easter-competition/
LOCATION:Home\, Old Hall Lane\, Woodford\, SK7 1RN\, United Kingdom
CATEGORIES:Ladies Fixtures
END:VEVENT
BEGIN:VEVENT
DTSTART;TZID=UTC:20230402T080000
DTEND;TZID=UTC:20230402T120000
DTSTAMP:20260421T040752
CREATED:20230130T141540Z
LAST-MODIFIED:20230223T192532Z
UID:10000003-1680422400-1680436800@www.avrogolf.co.uk
SUMMARY:Mens - Gamekeepers Trophy Stableford
DESCRIPTION:
URL:https://www.avrogolf.co.uk/event/greenkeepers-trophy-stableford/
LOCATION:Home\, Old Hall Lane\, Woodford\, SK7 1RN\, United Kingdom
CATEGORIES:Men's Fixtures
END:VEVENT
BEGIN:VEVENT
DTSTART;TZID=UTC:20230401T124500
DTEND;TZID=UTC:20230401T170000
DTSTAMP:20260421T040752
CREATED:20230208T204824Z
LAST-MODIFIED:20230223T191015Z
UID:10000025-1680353100-1680368400@www.avrogolf.co.uk
SUMMARY:Juniors - Junior Comp
DESCRIPTION:
URL:https://www.avrogolf.co.uk/event/juniors/
END:VEVENT
BEGIN:VEVENT
DTSTART;TZID=UTC:20230401T092000
DTEND;TZID=UTC:20230401T104000
DTSTAMP:20260421T040752
CREATED:20230206T112627Z
LAST-MODIFIED:20230212T124949Z
UID:10000004-1680340800-1680345600@www.avrogolf.co.uk
SUMMARY:Ladies - 9 hole
DESCRIPTION:
URL:https://www.avrogolf.co.uk/event/ladies-9-hole/
LOCATION:Home\, Old Hall Lane\, Woodford\, SK7 1RN\, United Kingdom
CATEGORIES:Ladies Fixtures
END:VEVENT
END:VCALENDAR